BEGIN:VCALENDAR
VERSION:2.0
PRODID:-//Avilou.si - ECPv6.9.1//NONSGML v1.0//EN
CALSCALE:GREGORIAN
METHOD:PUBLISH
X-WR-CALNAME:Avilou.si
X-ORIGINAL-URL:https://avilou.si
X-WR-CALDESC:Dogodki za Avilou.si
REFRESH-INTERVAL;VALUE=DURATION:PT1H
X-Robots-Tag:noindex
X-PUBLISHED-TTL:PT1H
BEGIN:VTIMEZONE
TZID:Europe/Ljubljana
BEGIN:DAYLIGHT
TZOFFSETFROM:+0100
TZOFFSETTO:+0200
TZNAME:CEST
DTSTART:20210328T010000
END:DAYLIGHT
BEGIN:STANDARD
TZOFFSETFROM:+0200
TZOFFSETTO:+0100
TZNAME:CET
DTSTART:20211031T010000
END:STANDARD
END:VTIMEZONE
BEGIN:VEVENT
DTSTART;TZID=Europe/Ljubljana:20210909T190000
DTEND;TZID=Europe/Ljubljana:20210909T203000
DTSTAMP:20260426T012554
CREATED:20210824T150013Z
LAST-MODIFIED:20210902T172940Z
UID:42238-1631214000-1631219400@avilou.si
SUMMARY:OCEANSKI BOBEN - zvočna kopel
DESCRIPTION:Inštrumenti: oceanski boben \nVodnik: Violett\, vila srčnega zavetja \nViolett sočutje in zavetje ti ponudi\, ko življenje te utrudi…
URL:https://avilou.si/dogodek/oceanski-boben-zvocna-kopel-3/
LOCATION:Avilou center\, Zaloška cesta 155\, Ljubljana\, 1000\, Slovenija
CATEGORIES:zvočna kopel
ATTACH;FMTTYPE=image/jpeg:https://avilou.si/wp-content/uploads/2019/12/20181023_155612-1-–-kopija.jpg
ORGANIZER;CN="Avilou":MAILTO:alenka@avilou.si
END:VEVENT
END:VCALENDAR